BEGIN:VCALENDAR
VERSION:2.0
PRODID:-//Maplecrest Country Club - ECPv6.15.20//NONSGML v1.0//EN
CALSCALE:GREGORIAN
METHOD:PUBLISH
X-WR-CALNAME:Maplecrest Country Club
X-ORIGINAL-URL:https://www.maplecrestcountryclub.org
X-WR-CALDESC:Events for Maplecrest Country Club
REFRESH-INTERVAL;VALUE=DURATION:PT1H
X-Robots-Tag:noindex
X-PUBLISHED-TTL:PT1H
BEGIN:VTIMEZONE
TZID:America/Indiana/Indianapolis
BEGIN:DAYLIGHT
TZOFFSETFROM:-0500
TZOFFSETTO:-0400
TZNAME:EDT
DTSTART:20210314T070000
END:DAYLIGHT
BEGIN:STANDARD
TZOFFSETFROM:-0400
TZOFFSETTO:-0500
TZNAME:EST
DTSTART:20211107T060000
END:STANDARD
BEGIN:DAYLIGHT
TZOFFSETFROM:-0500
TZOFFSETTO:-0400
TZNAME:EDT
DTSTART:20220313T070000
END:DAYLIGHT
BEGIN:STANDARD
TZOFFSETFROM:-0400
TZOFFSETTO:-0500
TZNAME:EST
DTSTART:20221106T060000
END:STANDARD
BEGIN:DAYLIGHT
TZOFFSETFROM:-0500
TZOFFSETTO:-0400
TZNAME:EDT
DTSTART:20230312T070000
END:DAYLIGHT
BEGIN:STANDARD
TZOFFSETFROM:-0400
TZOFFSETTO:-0500
TZNAME:EST
DTSTART:20231105T060000
END:STANDARD
END:VTIMEZONE
BEGIN:VEVENT
DTSTART;VALUE=DATE:20220601
DTEND;VALUE=DATE:20220602
DTSTAMP:20260421T124957
CREATED:20220119T184408Z
LAST-MODIFIED:20220119T184408Z
UID:706-1654041600-1654127999@www.maplecrestcountryclub.org
SUMMARY:Nuway Construction
DESCRIPTION:Nuway Construction
URL:https://www.maplecrestcountryclub.org/event/nuway-construction/
LOCATION:Maplecrest Country Club\, 611 Hackett Road\, Goshen\, IN\, 46528\, United States
GEO:41.6029947;-85.8214754
X-APPLE-STRUCTURED-LOCATION;VALUE=URI;X-ADDRESS=Maplecrest Country Club 611 Hackett Road Goshen IN 46528 United States;X-APPLE-RADIUS=500;X-TITLE=611 Hackett Road:geo:-85.8214754,41.6029947
END:VEVENT
BEGIN:VEVENT
DTSTART;VALUE=DATE:20220611
DTEND;VALUE=DATE:20220612
DTSTAMP:20260421T124957
CREATED:20220420T134951Z
LAST-MODIFIED:20220420T134951Z
UID:1089-1654905600-1654991999@www.maplecrestcountryclub.org
SUMMARY:Titleist Fitting Day
DESCRIPTION:Titleist Fitting Day
URL:https://www.maplecrestcountryclub.org/event/titleist-fitting-day/
LOCATION:Maplecrest Country Club\, 611 Hackett Road\, Goshen\, IN\, 46528\, United States
GEO:41.6029947;-85.8214754
X-APPLE-STRUCTURED-LOCATION;VALUE=URI;X-ADDRESS=Maplecrest Country Club 611 Hackett Road Goshen IN 46528 United States;X-APPLE-RADIUS=500;X-TITLE=611 Hackett Road:geo:-85.8214754,41.6029947
END:VEVENT
BEGIN:VEVENT
DTSTART;VALUE=DATE:20220616
DTEND;VALUE=DATE:20220617
DTSTAMP:20260421T124957
CREATED:20220119T184441Z
LAST-MODIFIED:20220119T184441Z
UID:708-1655337600-1655423999@www.maplecrestcountryclub.org
SUMMARY:Invite Practice
DESCRIPTION:Invite Practice
URL:https://www.maplecrestcountryclub.org/event/invite-practice/
LOCATION:Maplecrest Country Club\, 611 Hackett Road\, Goshen\, IN\, 46528\, United States
GEO:41.6029947;-85.8214754
X-APPLE-STRUCTURED-LOCATION;VALUE=URI;X-ADDRESS=Maplecrest Country Club 611 Hackett Road Goshen IN 46528 United States;X-APPLE-RADIUS=500;X-TITLE=611 Hackett Road:geo:-85.8214754,41.6029947
END:VEVENT
BEGIN:VEVENT
DTSTART;VALUE=DATE:20220617
DTEND;VALUE=DATE:20220619
DTSTAMP:20260421T124957
CREATED:20220119T184518Z
LAST-MODIFIED:20220310T023433Z
UID:710-1655424000-1655596799@www.maplecrestcountryclub.org
SUMMARY:Invite
DESCRIPTION:Invite \nThe biggest event of the Maplecrest Country Club golf season! Be sure to mark your calendars and make your reservations early for three days of great golf\, food\, drinks\, contests\, prizes\, \nentertainment\, and great times to be had by all. \nThe MCC Invitational is flighted off the black tee handicaps. All flights will play from the black tees \, except the last 2 flights regardless of age. \nPlease review the Invitational literature that accompanies this guide. Thursday Practice Round will shotgun at 12:30 on June 16th.  Call the Golf Shop at  574.533.1925  to request your playing partners. \n 
URL:https://www.maplecrestcountryclub.org/event/invite/
LOCATION:Maplecrest Country Club\, 611 Hackett Road\, Goshen\, IN\, 46528\, United States
GEO:41.6029947;-85.8214754
X-APPLE-STRUCTURED-LOCATION;VALUE=URI;X-ADDRESS=Maplecrest Country Club 611 Hackett Road Goshen IN 46528 United States;X-APPLE-RADIUS=500;X-TITLE=611 Hackett Road:geo:-85.8214754,41.6029947
END:VEVENT
BEGIN:VEVENT
DTSTART;VALUE=DATE:20220619
DTEND;VALUE=DATE:20220620
DTSTAMP:20260421T124957
CREATED:20220119T184604Z
LAST-MODIFIED:20220119T184604Z
UID:712-1655596800-1655683199@www.maplecrestcountryclub.org
SUMMARY:Invite Make Up
DESCRIPTION:Invite Make Up
URL:https://www.maplecrestcountryclub.org/event/invite-make-up/
LOCATION:Maplecrest Country Club\, 611 Hackett Road\, Goshen\, IN\, 46528\, United States
GEO:41.6029947;-85.8214754
X-APPLE-STRUCTURED-LOCATION;VALUE=URI;X-ADDRESS=Maplecrest Country Club 611 Hackett Road Goshen IN 46528 United States;X-APPLE-RADIUS=500;X-TITLE=611 Hackett Road:geo:-85.8214754,41.6029947
END:VEVENT
BEGIN:VEVENT
DTSTART;VALUE=DATE:20220622
DTEND;VALUE=DATE:20220623
DTSTAMP:20260421T124957
CREATED:20220119T184641Z
LAST-MODIFIED:20220119T184641Z
UID:714-1655856000-1655942399@www.maplecrestcountryclub.org
SUMMARY:BBBS of Elk Co
DESCRIPTION:BBBS of Elk Co
URL:https://www.maplecrestcountryclub.org/event/bbbs-of-elk-co/
LOCATION:Maplecrest Country Club\, 611 Hackett Road\, Goshen\, IN\, 46528\, United States
GEO:41.6029947;-85.8214754
X-APPLE-STRUCTURED-LOCATION;VALUE=URI;X-ADDRESS=Maplecrest Country Club 611 Hackett Road Goshen IN 46528 United States;X-APPLE-RADIUS=500;X-TITLE=611 Hackett Road:geo:-85.8214754,41.6029947
END:VEVENT
BEGIN:VEVENT
DTSTART;VALUE=DATE:20220624
DTEND;VALUE=DATE:20220625
DTSTAMP:20260421T124957
CREATED:20220119T184723Z
LAST-MODIFIED:20220119T184723Z
UID:716-1656028800-1656115199@www.maplecrestcountryclub.org
SUMMARY:Couples
DESCRIPTION:Couples
URL:https://www.maplecrestcountryclub.org/event/couples-2/
LOCATION:Maplecrest Country Club\, 611 Hackett Road\, Goshen\, IN\, 46528\, United States
GEO:41.6029947;-85.8214754
X-APPLE-STRUCTURED-LOCATION;VALUE=URI;X-ADDRESS=Maplecrest Country Club 611 Hackett Road Goshen IN 46528 United States;X-APPLE-RADIUS=500;X-TITLE=611 Hackett Road:geo:-85.8214754,41.6029947
END:VEVENT
BEGIN:VEVENT
DTSTART;VALUE=DATE:20220627
DTEND;VALUE=DATE:20220702
DTSTAMP:20260421T124957
CREATED:20220119T184804Z
LAST-MODIFIED:20220626T142217Z
UID:718-1656288000-1656719999@www.maplecrestcountryclub.org
SUMMARY:Junior Golf Week
DESCRIPTION:Junior Golf Week \nMCC Operation 36 will continue. Students will learn how to score\, meet goals\, and progress their skills. Please be on the lookout for the accompanying letter and sign up sheet.
URL:https://www.maplecrestcountryclub.org/event/junior-golf-week/
LOCATION:Maplecrest Country Club\, 611 Hackett Road\, Goshen\, IN\, 46528\, United States
GEO:41.6029947;-85.8214754
X-APPLE-STRUCTURED-LOCATION;VALUE=URI;X-ADDRESS=Maplecrest Country Club 611 Hackett Road Goshen IN 46528 United States;X-APPLE-RADIUS=500;X-TITLE=611 Hackett Road:geo:-85.8214754,41.6029947
END:VEVENT
END:VCALENDAR