BEGIN:VCALENDAR
VERSION:2.0
PRODID:-//Maplecrest Country Club - ECPv6.15.20//NONSGML v1.0//EN
CALSCALE:GREGORIAN
METHOD:PUBLISH
X-ORIGINAL-URL:https://www.maplecrestcountryclub.org
X-WR-CALDESC:Events for Maplecrest Country Club
REFRESH-INTERVAL;VALUE=DURATION:PT1H
X-Robots-Tag:noindex
X-PUBLISHED-TTL:PT1H
BEGIN:VTIMEZONE
TZID:America/Indiana/Indianapolis
BEGIN:DAYLIGHT
TZOFFSETFROM:-0500
TZOFFSETTO:-0400
TZNAME:EDT
DTSTART:20210314T070000
END:DAYLIGHT
BEGIN:STANDARD
TZOFFSETFROM:-0400
TZOFFSETTO:-0500
TZNAME:EST
DTSTART:20211107T060000
END:STANDARD
BEGIN:DAYLIGHT
TZOFFSETFROM:-0500
TZOFFSETTO:-0400
TZNAME:EDT
DTSTART:20220313T070000
END:DAYLIGHT
BEGIN:STANDARD
TZOFFSETFROM:-0400
TZOFFSETTO:-0500
TZNAME:EST
DTSTART:20221106T060000
END:STANDARD
BEGIN:DAYLIGHT
TZOFFSETFROM:-0500
TZOFFSETTO:-0400
TZNAME:EDT
DTSTART:20230312T070000
END:DAYLIGHT
BEGIN:STANDARD
TZOFFSETFROM:-0400
TZOFFSETTO:-0500
TZNAME:EST
DTSTART:20231105T060000
END:STANDARD
END:VTIMEZONE
BEGIN:VEVENT
DTSTART;TZID=America/Indiana/Indianapolis:20220304T173000
DTEND;TZID=America/Indiana/Indianapolis:20220304T210000
DTSTAMP:20260421T182015
CREATED:20220221T162242Z
LAST-MODIFIED:20220221T162242Z
UID:819-1646415000-1646427600@www.maplecrestcountryclub.org
SUMMARY:Abbs Relief Dinner
DESCRIPTION:Come out to support the Abbs Family as they repair their home from major flooding. \nReserve your table through Kristin bar@maplecrestcountryclub.org
URL:https://www.maplecrestcountryclub.org/event/abbs-relief-dinner/
LOCATION:Maplecrest Country Club\, 611 Hackett Road\, Goshen\, IN\, 46528\, United States
GEO:41.6029947;-85.8214754
X-APPLE-STRUCTURED-LOCATION;VALUE=URI;X-ADDRESS=Maplecrest Country Club 611 Hackett Road Goshen IN 46528 United States;X-APPLE-RADIUS=500;X-TITLE=611 Hackett Road:geo:-85.8214754,41.6029947
END:VEVENT
BEGIN:VEVENT
DTSTART;TZID=America/Indiana/Indianapolis:20220317T110000
DTEND;TZID=America/Indiana/Indianapolis:20220320T200000
DTSTAMP:20260421T182015
CREATED:20220221T162950Z
LAST-MODIFIED:20220221T162950Z
UID:821-1647514800-1647806400@www.maplecrestcountryclub.org
SUMMARY:March Madness First Round
DESCRIPTION:Join us as we kick off the first round of March Madness! Drink and Food Specials. 11am to 8pm. Bunker Room!
URL:https://www.maplecrestcountryclub.org/event/march-madness-first-round/
LOCATION:Maplecrest Country Club\, 611 Hackett Road\, Goshen\, IN\, 46528\, United States
GEO:41.6029947;-85.8214754
X-APPLE-STRUCTURED-LOCATION;VALUE=URI;X-ADDRESS=Maplecrest Country Club 611 Hackett Road Goshen IN 46528 United States;X-APPLE-RADIUS=500;X-TITLE=611 Hackett Road:geo:-85.8214754,41.6029947
END:VEVENT
BEGIN:VEVENT
DTSTART;TZID=America/Indiana/Indianapolis:20220318T170000
DTEND;TZID=America/Indiana/Indianapolis:20220318T210000
DTSTAMP:20260421T182015
CREATED:20220207T140802Z
LAST-MODIFIED:20220207T160224Z
UID:797-1647622800-1647637200@www.maplecrestcountryclub.org
SUMMARY:St. Patrick's Party
DESCRIPTION:Join us for what is sure to be our best St. Patrick’s Party yet! Live Music from local favorite band Peck ‘N Frey\, Irish Buffet\, Green Beer\, and much more. \nDate: FRIDAY\, March 18\, 2022 \nTime: 5pm to 9pm \nPrice: Adults: $14.95/Kids: $4.95 \nClick on the link below for flyer \nSt. Patrick’s Party \n 
URL:https://www.maplecrestcountryclub.org/event/st-patricks-day-party/
LOCATION:Maplecrest Country Club\, 611 Hackett Road\, Goshen\, IN\, 46528\, United States
GEO:41.6029947;-85.8214754
X-APPLE-STRUCTURED-LOCATION;VALUE=URI;X-ADDRESS=Maplecrest Country Club 611 Hackett Road Goshen IN 46528 United States;X-APPLE-RADIUS=500;X-TITLE=611 Hackett Road:geo:-85.8214754,41.6029947
END:VEVENT
BEGIN:VEVENT
DTSTART;TZID=America/Indiana/Indianapolis:20220324T183000
DTEND;TZID=America/Indiana/Indianapolis:20220324T210000
DTSTAMP:20260421T182015
CREATED:20220209T202144Z
LAST-MODIFIED:20220222T141327Z
UID:809-1648146600-1648155600@www.maplecrestcountryclub.org
SUMMARY:Spring Wine Dinner
DESCRIPTION:Join us for our “Down Under” themed Spring Wine Dinner featuring wines from the vineyards of Australia. \nPlease contact Kristin at bar@maplecrestcountryclub.org to reserve your table. \nSpring Wine Dinner Menu
URL:https://www.maplecrestcountryclub.org/event/spring-wine-dinner/
LOCATION:Maplecrest Country Club\, 611 Hackett Road\, Goshen\, IN\, 46528\, United States
GEO:41.6029947;-85.8214754
X-APPLE-STRUCTURED-LOCATION;VALUE=URI;X-ADDRESS=Maplecrest Country Club 611 Hackett Road Goshen IN 46528 United States;X-APPLE-RADIUS=500;X-TITLE=611 Hackett Road:geo:-85.8214754,41.6029947
END:VEVENT
END:VCALENDAR