BEGIN:VCALENDAR
VERSION:2.0
PRODID:-//Maplecrest Country Club - ECPv6.15.20//NONSGML v1.0//EN
CALSCALE:GREGORIAN
METHOD:PUBLISH
X-ORIGINAL-URL:https://www.maplecrestcountryclub.org
X-WR-CALDESC:Events for Maplecrest Country Club
REFRESH-INTERVAL;VALUE=DURATION:PT1H
X-Robots-Tag:noindex
X-PUBLISHED-TTL:PT1H
BEGIN:VTIMEZONE
TZID:America/Indiana/Indianapolis
BEGIN:DAYLIGHT
TZOFFSETFROM:-0500
TZOFFSETTO:-0400
TZNAME:EDT
DTSTART:20210314T070000
END:DAYLIGHT
BEGIN:STANDARD
TZOFFSETFROM:-0400
TZOFFSETTO:-0500
TZNAME:EST
DTSTART:20211107T060000
END:STANDARD
BEGIN:DAYLIGHT
TZOFFSETFROM:-0500
TZOFFSETTO:-0400
TZNAME:EDT
DTSTART:20220313T070000
END:DAYLIGHT
BEGIN:STANDARD
TZOFFSETFROM:-0400
TZOFFSETTO:-0500
TZNAME:EST
DTSTART:20221106T060000
END:STANDARD
BEGIN:DAYLIGHT
TZOFFSETFROM:-0500
TZOFFSETTO:-0400
TZNAME:EDT
DTSTART:20230312T070000
END:DAYLIGHT
BEGIN:STANDARD
TZOFFSETFROM:-0400
TZOFFSETTO:-0500
TZNAME:EST
DTSTART:20231105T060000
END:STANDARD
END:VTIMEZONE
BEGIN:VEVENT
DTSTART;TZID=America/Indiana/Indianapolis:20220206T103000
DTEND;TZID=America/Indiana/Indianapolis:20220206T140000
DTSTAMP:20260421T181116
CREATED:20220124T190909Z
LAST-MODIFIED:20220126T185916Z
UID:770-1644143400-1644156000@www.maplecrestcountryclub.org
SUMMARY:Winter Buffet Brunch
DESCRIPTION:Winter Buffet Brunch \nJoin us on Feb 6th from 10:30am – 2:00 pm for our Winter Buffet Brunch. (normal breakfast will start serving at 8am) \nEmail Kristin at bar@maplecrestcountryclub.org for reservations. \nClick on the link below to view the menu and pricing. \nWinter Brunch 2022
URL:https://www.maplecrestcountryclub.org/event/winter-buffet-brunch/
LOCATION:Maplecrest Country Club\, 611 Hackett Road\, Goshen\, IN\, 46528\, United States
GEO:41.6029947;-85.8214754
X-APPLE-STRUCTURED-LOCATION;VALUE=URI;X-ADDRESS=Maplecrest Country Club 611 Hackett Road Goshen IN 46528 United States;X-APPLE-RADIUS=500;X-TITLE=611 Hackett Road:geo:-85.8214754,41.6029947
END:VEVENT
BEGIN:VEVENT
DTSTART;TZID=America/Indiana/Indianapolis:20220214T173000
DTEND;TZID=America/Indiana/Indianapolis:20220214T193000
DTSTAMP:20260421T181116
CREATED:20220128T145548Z
LAST-MODIFIED:20220208T155151Z
UID:785-1644859800-1644867000@www.maplecrestcountryclub.org
SUMMARY:Valentines Day Dinner
DESCRIPTION:Please contact Kristin at bar@maplecrestcountryclub.org for Reservations as we are now down to limited availability. \nValentine’s Day Menu
URL:https://www.maplecrestcountryclub.org/event/valentines-day-dinner/
LOCATION:Maplecrest Country Club\, 611 Hackett Road\, Goshen\, IN\, 46528\, United States
GEO:41.6029947;-85.8214754
X-APPLE-STRUCTURED-LOCATION;VALUE=URI;X-ADDRESS=Maplecrest Country Club 611 Hackett Road Goshen IN 46528 United States;X-APPLE-RADIUS=500;X-TITLE=611 Hackett Road:geo:-85.8214754,41.6029947
END:VEVENT
BEGIN:VEVENT
DTSTART;TZID=America/Indiana/Indianapolis:20220225T173000
DTEND;TZID=America/Indiana/Indianapolis:20220225T203000
DTSTAMP:20260421T181116
CREATED:20220221T161843Z
LAST-MODIFIED:20220221T161843Z
UID:817-1645810200-1645821000@www.maplecrestcountryclub.org
SUMMARY:Trivia Night
DESCRIPTION:Email Kristin at bar@maplecrestcountryclub.org
URL:https://www.maplecrestcountryclub.org/event/trivia-night/
LOCATION:Maplecrest Country Club\, 611 Hackett Road\, Goshen\, IN\, 46528\, United States
GEO:41.6029947;-85.8214754
X-APPLE-STRUCTURED-LOCATION;VALUE=URI;X-ADDRESS=Maplecrest Country Club 611 Hackett Road Goshen IN 46528 United States;X-APPLE-RADIUS=500;X-TITLE=611 Hackett Road:geo:-85.8214754,41.6029947
END:VEVENT
END:VCALENDAR