BEGIN:VCALENDAR
VERSION:2.0
PRODID:-//Maplecrest Country Club - ECPv6.15.20//NONSGML v1.0//EN
CALSCALE:GREGORIAN
METHOD:PUBLISH
X-WR-CALNAME:Maplecrest Country Club
X-ORIGINAL-URL:https://www.maplecrestcountryclub.org
X-WR-CALDESC:Events for Maplecrest Country Club
REFRESH-INTERVAL;VALUE=DURATION:PT1H
X-Robots-Tag:noindex
X-PUBLISHED-TTL:PT1H
BEGIN:VTIMEZONE
TZID:America/Indiana/Indianapolis
BEGIN:DAYLIGHT
TZOFFSETFROM:-0500
TZOFFSETTO:-0400
TZNAME:EDT
DTSTART:20200308T070000
END:DAYLIGHT
BEGIN:STANDARD
TZOFFSETFROM:-0400
TZOFFSETTO:-0500
TZNAME:EST
DTSTART:20201101T060000
END:STANDARD
BEGIN:DAYLIGHT
TZOFFSETFROM:-0500
TZOFFSETTO:-0400
TZNAME:EDT
DTSTART:20210314T070000
END:DAYLIGHT
BEGIN:STANDARD
TZOFFSETFROM:-0400
TZOFFSETTO:-0500
TZNAME:EST
DTSTART:20211107T060000
END:STANDARD
BEGIN:DAYLIGHT
TZOFFSETFROM:-0500
TZOFFSETTO:-0400
TZNAME:EDT
DTSTART:20220313T070000
END:DAYLIGHT
BEGIN:STANDARD
TZOFFSETFROM:-0400
TZOFFSETTO:-0500
TZNAME:EST
DTSTART:20221106T060000
END:STANDARD
END:VTIMEZONE
BEGIN:VTIMEZONE
TZID:UTC
BEGIN:STANDARD
TZOFFSETFROM:+0000
TZOFFSETTO:+0000
TZNAME:UTC
DTSTART:20200101T000000
END:STANDARD
END:VTIMEZONE
BEGIN:VEVENT
DTSTART;TZID=America/Indiana/Indianapolis:20210715T000000
DTEND;TZID=America/Indiana/Indianapolis:20210715T000000
DTSTAMP:20260419T225259
CREATED:20210325T150402Z
LAST-MODIFIED:20210708T165250Z
UID:493-1626307200-1626307200@www.maplecrestcountryclub.org
SUMMARY:Way Interglobal Network Outing
DESCRIPTION:Way Interglobal Network Outing
URL:https://www.maplecrestcountryclub.org/event/way-interglobal-network-outing/
LOCATION:Maplecrest Country Club\, 611 Hackett Road\, Goshen\, IN\, 46528\, United States
GEO:41.6029947;-85.8214754
X-APPLE-STRUCTURED-LOCATION;VALUE=URI;X-ADDRESS=Maplecrest Country Club 611 Hackett Road Goshen IN 46528 United States;X-APPLE-RADIUS=500;X-TITLE=611 Hackett Road:geo:-85.8214754,41.6029947
END:VEVENT
BEGIN:VEVENT
DTSTART;TZID=America/Indiana/Indianapolis:20210709T000000
DTEND;TZID=America/Indiana/Indianapolis:20210709T000000
DTSTAMP:20260419T225259
CREATED:20210325T150335Z
LAST-MODIFIED:20210325T150335Z
UID:491-1625788800-1625788800@www.maplecrestcountryclub.org
SUMMARY:Boys & Girls Club--Ryder Cup @ Elcona CC
DESCRIPTION:Boys & Girls Club–Ryder Cup @ Elcona CC
URL:https://www.maplecrestcountryclub.org/event/boys-girls-club-ryder-cup-elcona-cc/
LOCATION:Maplecrest Country Club\, 611 Hackett Road\, Goshen\, IN\, 46528\, United States
GEO:41.6029947;-85.8214754
X-APPLE-STRUCTURED-LOCATION;VALUE=URI;X-ADDRESS=Maplecrest Country Club 611 Hackett Road Goshen IN 46528 United States;X-APPLE-RADIUS=500;X-TITLE=611 Hackett Road:geo:-85.8214754,41.6029947
END:VEVENT
BEGIN:VEVENT
DTSTART;TZID=America/Indiana/Indianapolis:20210704T000000
DTEND;TZID=America/Indiana/Indianapolis:20210704T000000
DTSTAMP:20260419T225259
CREATED:20210325T150259Z
LAST-MODIFIED:20210325T150259Z
UID:489-1625356800-1625356800@www.maplecrestcountryclub.org
SUMMARY:Independence Day
DESCRIPTION:Independence Day
URL:https://www.maplecrestcountryclub.org/event/independence-day/
LOCATION:Maplecrest Country Club\, 611 Hackett Road\, Goshen\, IN\, 46528\, United States
GEO:41.6029947;-85.8214754
X-APPLE-STRUCTURED-LOCATION;VALUE=URI;X-ADDRESS=Maplecrest Country Club 611 Hackett Road Goshen IN 46528 United States;X-APPLE-RADIUS=500;X-TITLE=611 Hackett Road:geo:-85.8214754,41.6029947
END:VEVENT
BEGIN:VEVENT
DTSTART;TZID=America/Indiana/Indianapolis:20210625T000000
DTEND;TZID=America/Indiana/Indianapolis:20210625T000000
DTSTAMP:20260419T225259
CREATED:20210325T150221Z
LAST-MODIFIED:20210325T150221Z
UID:487-1624579200-1624579200@www.maplecrestcountryclub.org
SUMMARY:MCC Couple’s Scramble
DESCRIPTION:MCC Couple’s Scramble
URL:https://www.maplecrestcountryclub.org/event/mcc-couples-scramble-2/
LOCATION:Maplecrest Country Club\, 611 Hackett Road\, Goshen\, IN\, 46528\, United States
GEO:41.6029947;-85.8214754
X-APPLE-STRUCTURED-LOCATION;VALUE=URI;X-ADDRESS=Maplecrest Country Club 611 Hackett Road Goshen IN 46528 United States;X-APPLE-RADIUS=500;X-TITLE=611 Hackett Road:geo:-85.8214754,41.6029947
END:VEVENT
BEGIN:VEVENT
DTSTART;TZID=America/Indiana/Indianapolis:20210623T000000
DTEND;TZID=America/Indiana/Indianapolis:20210623T000000
DTSTAMP:20260419T225259
CREATED:20210325T150141Z
LAST-MODIFIED:20210325T150141Z
UID:485-1624406400-1624406400@www.maplecrestcountryclub.org
SUMMARY:Big Bro. Big Sis. of Elkhart Co
DESCRIPTION:Big Bro. Big Sis. of Elkhart Co
URL:https://www.maplecrestcountryclub.org/event/big-bro-big-sis-of-elkhart-co/
LOCATION:Maplecrest Country Club\, 611 Hackett Road\, Goshen\, IN\, 46528\, United States
GEO:41.6029947;-85.8214754
X-APPLE-STRUCTURED-LOCATION;VALUE=URI;X-ADDRESS=Maplecrest Country Club 611 Hackett Road Goshen IN 46528 United States;X-APPLE-RADIUS=500;X-TITLE=611 Hackett Road:geo:-85.8214754,41.6029947
END:VEVENT
BEGIN:VEVENT
DTSTART;TZID=America/Indiana/Indianapolis:20210620T000000
DTEND;TZID=America/Indiana/Indianapolis:20210620T000000
DTSTAMP:20260419T225259
CREATED:20210325T150051Z
LAST-MODIFIED:20210325T150051Z
UID:483-1624147200-1624147200@www.maplecrestcountryclub.org
SUMMARY:Father’s Day
DESCRIPTION:Father’s Day
URL:https://www.maplecrestcountryclub.org/event/fathers-day/
LOCATION:Maplecrest Country Club\, 611 Hackett Road\, Goshen\, IN\, 46528\, United States
GEO:41.6029947;-85.8214754
X-APPLE-STRUCTURED-LOCATION;VALUE=URI;X-ADDRESS=Maplecrest Country Club 611 Hackett Road Goshen IN 46528 United States;X-APPLE-RADIUS=500;X-TITLE=611 Hackett Road:geo:-85.8214754,41.6029947
END:VEVENT
BEGIN:VEVENT
DTSTART;TZID=America/Indiana/Indianapolis:20210620T000000
DTEND;TZID=America/Indiana/Indianapolis:20210620T000000
DTSTAMP:20260419T225259
CREATED:20210325T150026Z
LAST-MODIFIED:20210325T150026Z
UID:481-1624147200-1624147200@www.maplecrestcountryclub.org
SUMMARY:MCC Men’s Invitational (Make-up Day)
DESCRIPTION:MCC Men’s Invitational (Make-up Day)
URL:https://www.maplecrestcountryclub.org/event/mcc-mens-invitational-make-up-day/
LOCATION:Maplecrest Country Club\, 611 Hackett Road\, Goshen\, IN\, 46528\, United States
GEO:41.6029947;-85.8214754
X-APPLE-STRUCTURED-LOCATION;VALUE=URI;X-ADDRESS=Maplecrest Country Club 611 Hackett Road Goshen IN 46528 United States;X-APPLE-RADIUS=500;X-TITLE=611 Hackett Road:geo:-85.8214754,41.6029947
END:VEVENT
BEGIN:VEVENT
DTSTART;TZID=America/Indiana/Indianapolis:20210618T000000
DTEND;TZID=America/Indiana/Indianapolis:20210619T000000
DTSTAMP:20260419T225259
CREATED:20210325T145954Z
LAST-MODIFIED:20210325T145954Z
UID:479-1623974400-1624060800@www.maplecrestcountryclub.org
SUMMARY:MCC Men’s Invitational
DESCRIPTION:MCC Men’s Invitational
URL:https://www.maplecrestcountryclub.org/event/mcc-mens-invitational/
LOCATION:Maplecrest Country Club\, 611 Hackett Road\, Goshen\, IN\, 46528\, United States
GEO:41.6029947;-85.8214754
X-APPLE-STRUCTURED-LOCATION;VALUE=URI;X-ADDRESS=Maplecrest Country Club 611 Hackett Road Goshen IN 46528 United States;X-APPLE-RADIUS=500;X-TITLE=611 Hackett Road:geo:-85.8214754,41.6029947
END:VEVENT
BEGIN:VEVENT
DTSTART;TZID=America/Indiana/Indianapolis:20210617T000000
DTEND;TZID=America/Indiana/Indianapolis:20210617T000000
DTSTAMP:20260419T225259
CREATED:20210325T145908Z
LAST-MODIFIED:20210325T145908Z
UID:477-1623888000-1623888000@www.maplecrestcountryclub.org
SUMMARY:MCC Men’s Invitational Practice Round
DESCRIPTION:MCC Men’s Invitational Practice Round
URL:https://www.maplecrestcountryclub.org/event/mcc-mens-invitational-practice-round/
LOCATION:Maplecrest Country Club\, 611 Hackett Road\, Goshen\, IN\, 46528\, United States
GEO:41.6029947;-85.8214754
X-APPLE-STRUCTURED-LOCATION;VALUE=URI;X-ADDRESS=Maplecrest Country Club 611 Hackett Road Goshen IN 46528 United States;X-APPLE-RADIUS=500;X-TITLE=611 Hackett Road:geo:-85.8214754,41.6029947
END:VEVENT
BEGIN:VEVENT
DTSTART;TZID=America/Indiana/Indianapolis:20210609T000000
DTEND;TZID=America/Indiana/Indianapolis:20210609T000000
DTSTAMP:20260419T225259
CREATED:20210325T145836Z
LAST-MODIFIED:20210325T145836Z
UID:475-1623196800-1623196800@www.maplecrestcountryclub.org
SUMMARY:IGA Jr Event
DESCRIPTION:IGA Jr Event
URL:https://www.maplecrestcountryclub.org/event/iga-jr-event/
LOCATION:Maplecrest Country Club\, 611 Hackett Road\, Goshen\, IN\, 46528\, United States
GEO:41.6029947;-85.8214754
X-APPLE-STRUCTURED-LOCATION;VALUE=URI;X-ADDRESS=Maplecrest Country Club 611 Hackett Road Goshen IN 46528 United States;X-APPLE-RADIUS=500;X-TITLE=611 Hackett Road:geo:-85.8214754,41.6029947
END:VEVENT
BEGIN:VEVENT
DTSTART;TZID=America/Indiana/Indianapolis:20210606T000000
DTEND;TZID=America/Indiana/Indianapolis:20210606T000000
DTSTAMP:20260419T225259
CREATED:20210325T145805Z
LAST-MODIFIED:20210325T145805Z
UID:473-1622937600-1622937600@www.maplecrestcountryclub.org
SUMMARY:MCC Men’s & Women’s Mixer
DESCRIPTION:MCC Men’s & Women’s Mixer
URL:https://www.maplecrestcountryclub.org/event/mcc-mens-womens-mixer/
LOCATION:Maplecrest Country Club\, 611 Hackett Road\, Goshen\, IN\, 46528\, United States
GEO:41.6029947;-85.8214754
X-APPLE-STRUCTURED-LOCATION;VALUE=URI;X-ADDRESS=Maplecrest Country Club 611 Hackett Road Goshen IN 46528 United States;X-APPLE-RADIUS=500;X-TITLE=611 Hackett Road:geo:-85.8214754,41.6029947
END:VEVENT
BEGIN:VEVENT
DTSTART;TZID=America/Indiana/Indianapolis:20210602T000000
DTEND;TZID=America/Indiana/Indianapolis:20210602T000000
DTSTAMP:20260419T225259
CREATED:20210325T145737Z
LAST-MODIFIED:20210325T145737Z
UID:471-1622592000-1622592000@www.maplecrestcountryclub.org
SUMMARY:Bashor Children’s Home Outing
DESCRIPTION:Bashor Children’s Home Outing
URL:https://www.maplecrestcountryclub.org/event/bashor-childrens-home-outing/
LOCATION:Maplecrest Country Club\, 611 Hackett Road\, Goshen\, IN\, 46528\, United States
GEO:41.6029947;-85.8214754
X-APPLE-STRUCTURED-LOCATION;VALUE=URI;X-ADDRESS=Maplecrest Country Club 611 Hackett Road Goshen IN 46528 United States;X-APPLE-RADIUS=500;X-TITLE=611 Hackett Road:geo:-85.8214754,41.6029947
END:VEVENT
BEGIN:VEVENT
DTSTART;TZID=America/Indiana/Indianapolis:20210531T000000
DTEND;TZID=America/Indiana/Indianapolis:20210531T000000
DTSTAMP:20260419T225259
CREATED:20210325T145657Z
LAST-MODIFIED:20210325T145657Z
UID:469-1622419200-1622419200@www.maplecrestcountryclub.org
SUMMARY:Memorial Day
DESCRIPTION:Memorial Day
URL:https://www.maplecrestcountryclub.org/event/memorial-day/
LOCATION:Maplecrest Country Club\, 611 Hackett Road\, Goshen\, IN\, 46528\, United States
GEO:41.6029947;-85.8214754
X-APPLE-STRUCTURED-LOCATION;VALUE=URI;X-ADDRESS=Maplecrest Country Club 611 Hackett Road Goshen IN 46528 United States;X-APPLE-RADIUS=500;X-TITLE=611 Hackett Road:geo:-85.8214754,41.6029947
END:VEVENT
BEGIN:VEVENT
DTSTART;TZID=America/Indiana/Indianapolis:20210529T000000
DTEND;TZID=America/Indiana/Indianapolis:20210530T000000
DTSTAMP:20260419T225259
CREATED:20210325T145622Z
LAST-MODIFIED:20210325T145622Z
UID:467-1622246400-1622332800@www.maplecrestcountryclub.org
SUMMARY:MCC Buddy Tournament
DESCRIPTION:MCC Buddy Tournament
URL:https://www.maplecrestcountryclub.org/event/mcc-buddy-tournament/
LOCATION:Maplecrest Country Club\, 611 Hackett Road\, Goshen\, IN\, 46528\, United States
GEO:41.6029947;-85.8214754
X-APPLE-STRUCTURED-LOCATION;VALUE=URI;X-ADDRESS=Maplecrest Country Club 611 Hackett Road Goshen IN 46528 United States;X-APPLE-RADIUS=500;X-TITLE=611 Hackett Road:geo:-85.8214754,41.6029947
END:VEVENT
BEGIN:VEVENT
DTSTART;TZID=America/Indiana/Indianapolis:20210528T000000
DTEND;TZID=America/Indiana/Indianapolis:20210528T000000
DTSTAMP:20260419T225259
CREATED:20210325T145549Z
LAST-MODIFIED:20210325T145549Z
UID:465-1622160000-1622160000@www.maplecrestcountryclub.org
SUMMARY:MCC Couple’s Scramble
DESCRIPTION:MCC Couple’s Scramble
URL:https://www.maplecrestcountryclub.org/event/mcc-couples-scramble/
LOCATION:Maplecrest Country Club\, 611 Hackett Road\, Goshen\, IN\, 46528\, United States
GEO:41.6029947;-85.8214754
X-APPLE-STRUCTURED-LOCATION;VALUE=URI;X-ADDRESS=Maplecrest Country Club 611 Hackett Road Goshen IN 46528 United States;X-APPLE-RADIUS=500;X-TITLE=611 Hackett Road:geo:-85.8214754,41.6029947
END:VEVENT
BEGIN:VEVENT
DTSTART;TZID=America/Indiana/Indianapolis:20210516T000000
DTEND;TZID=America/Indiana/Indianapolis:20210516T000000
DTSTAMP:20260419T225259
CREATED:20210325T145509Z
LAST-MODIFIED:20210325T145509Z
UID:463-1621123200-1621123200@www.maplecrestcountryclub.org
SUMMARY:MCC Double Pin Scramble
DESCRIPTION:MCC Double Pin Scramble
URL:https://www.maplecrestcountryclub.org/event/mcc-double-pin-scramble/
LOCATION:Maplecrest Country Club\, 611 Hackett Road\, Goshen\, IN\, 46528\, United States
GEO:41.6029947;-85.8214754
X-APPLE-STRUCTURED-LOCATION;VALUE=URI;X-ADDRESS=Maplecrest Country Club 611 Hackett Road Goshen IN 46528 United States;X-APPLE-RADIUS=500;X-TITLE=611 Hackett Road:geo:-85.8214754,41.6029947
END:VEVENT
BEGIN:VEVENT
DTSTART;TZID=America/Indiana/Indianapolis:20210509T000000
DTEND;TZID=America/Indiana/Indianapolis:20210509T000000
DTSTAMP:20260419T225300
CREATED:20210325T145442Z
LAST-MODIFIED:20210325T145442Z
UID:461-1620518400-1620518400@www.maplecrestcountryclub.org
SUMMARY:Mother’s Day
DESCRIPTION:Mother’s Day
URL:https://www.maplecrestcountryclub.org/event/mothers-day/
LOCATION:Maplecrest Country Club\, 611 Hackett Road\, Goshen\, IN\, 46528\, United States
GEO:41.6029947;-85.8214754
X-APPLE-STRUCTURED-LOCATION;VALUE=URI;X-ADDRESS=Maplecrest Country Club 611 Hackett Road Goshen IN 46528 United States;X-APPLE-RADIUS=500;X-TITLE=611 Hackett Road:geo:-85.8214754,41.6029947
END:VEVENT
BEGIN:VEVENT
DTSTART;TZID=America/Indiana/Indianapolis:20210501T000000
DTEND;TZID=America/Indiana/Indianapolis:20210501T000000
DTSTAMP:20260419T225300
CREATED:20210325T145417Z
LAST-MODIFIED:20210325T145417Z
UID:459-1619827200-1619827200@www.maplecrestcountryclub.org
SUMMARY:MCC 4 Person-2 Net Better Ball
DESCRIPTION:MCC 4 Person-2 Net Better Ball
URL:https://www.maplecrestcountryclub.org/event/mcc-4-person-2-net-better-ball/
LOCATION:Maplecrest Country Club\, 611 Hackett Road\, Goshen\, IN\, 46528\, United States
GEO:41.6029947;-85.8214754
X-APPLE-STRUCTURED-LOCATION;VALUE=URI;X-ADDRESS=Maplecrest Country Club 611 Hackett Road Goshen IN 46528 United States;X-APPLE-RADIUS=500;X-TITLE=611 Hackett Road:geo:-85.8214754,41.6029947
END:VEVENT
BEGIN:VEVENT
DTSTART;TZID=America/Indiana/Indianapolis:20210426T000000
DTEND;TZID=America/Indiana/Indianapolis:20210426T000000
DTSTAMP:20260419T225300
CREATED:20210325T145303Z
LAST-MODIFIED:20210325T145303Z
UID:457-1619395200-1619395200@www.maplecrestcountryclub.org
SUMMARY:MNL Par 3 Challenge
DESCRIPTION:MNL Par 3 Challenge
URL:https://www.maplecrestcountryclub.org/event/mnl-par-3-challenge/
LOCATION:Maplecrest Country Club\, 611 Hackett Road\, Goshen\, IN\, 46528\, United States
GEO:41.6029947;-85.8214754
X-APPLE-STRUCTURED-LOCATION;VALUE=URI;X-ADDRESS=Maplecrest Country Club 611 Hackett Road Goshen IN 46528 United States;X-APPLE-RADIUS=500;X-TITLE=611 Hackett Road:geo:-85.8214754,41.6029947
END:VEVENT
BEGIN:VEVENT
DTSTART;TZID=UTC:20210412T080000
DTEND;TZID=UTC:20210412T170000
DTSTAMP:20260419T225300
CREATED:20210310T010821Z
LAST-MODIFIED:20210310T010821Z
UID:142-1618214400-1618246800@www.maplecrestcountryclub.org
SUMMARY:MCC Men's MNL Meeting
DESCRIPTION:
URL:https://www.maplecrestcountryclub.org/event/mcc-mens-mnl-meeting/
LOCATION:IN
END:VEVENT
BEGIN:VEVENT
DTSTART;TZID=UTC:20210411T080000
DTEND;TZID=UTC:20210411T170000
DTSTAMP:20260419T225300
CREATED:20210310T010801Z
LAST-MODIFIED:20210310T010801Z
UID:140-1618128000-1618160400@www.maplecrestcountryclub.org
SUMMARY:MCC Masters' Pro-AM
DESCRIPTION:
URL:https://www.maplecrestcountryclub.org/event/mcc-masters-pro-am-2/
LOCATION:IN
END:VEVENT
BEGIN:VEVENT
DTSTART;TZID=UTC:20210410T080000
DTEND;TZID=UTC:20210410T170000
DTSTAMP:20260419T225300
CREATED:20210310T010739Z
LAST-MODIFIED:20210310T010739Z
UID:138-1618041600-1618074000@www.maplecrestcountryclub.org
SUMMARY:MCC Masters' Pro-AM
DESCRIPTION:
URL:https://www.maplecrestcountryclub.org/event/mcc-masters-pro-am/
LOCATION:IN
END:VEVENT
END:VCALENDAR