BEGIN:VCALENDAR
VERSION:2.0
PRODID:-//Maplecrest Country Club - ECPv6.15.20//NONSGML v1.0//EN
CALSCALE:GREGORIAN
METHOD:PUBLISH
X-ORIGINAL-URL:https://www.maplecrestcountryclub.org
X-WR-CALDESC:Events for Maplecrest Country Club
REFRESH-INTERVAL;VALUE=DURATION:PT1H
X-Robots-Tag:noindex
X-PUBLISHED-TTL:PT1H
BEGIN:VTIMEZONE
TZID:America/Indiana/Indianapolis
BEGIN:DAYLIGHT
TZOFFSETFROM:-0500
TZOFFSETTO:-0400
TZNAME:EDT
DTSTART:20210314T070000
END:DAYLIGHT
BEGIN:STANDARD
TZOFFSETFROM:-0400
TZOFFSETTO:-0500
TZNAME:EST
DTSTART:20211107T060000
END:STANDARD
BEGIN:DAYLIGHT
TZOFFSETFROM:-0500
TZOFFSETTO:-0400
TZNAME:EDT
DTSTART:20220313T070000
END:DAYLIGHT
BEGIN:STANDARD
TZOFFSETFROM:-0400
TZOFFSETTO:-0500
TZNAME:EST
DTSTART:20221106T060000
END:STANDARD
BEGIN:DAYLIGHT
TZOFFSETFROM:-0500
TZOFFSETTO:-0400
TZNAME:EDT
DTSTART:20230312T070000
END:DAYLIGHT
BEGIN:STANDARD
TZOFFSETFROM:-0400
TZOFFSETTO:-0500
TZNAME:EST
DTSTART:20231105T060000
END:STANDARD
END:VTIMEZONE
BEGIN:VEVENT
DTSTART;VALUE=DATE:20220724
DTEND;VALUE=DATE:20220725
DTSTAMP:20260421T125111
CREATED:20220119T193846Z
LAST-MODIFIED:20220310T023903Z
UID:730-1658620800-1658707199@www.maplecrestcountryclub.org
SUMMARY:Sr + Super Sr Champ
DESCRIPTION:Sr + Super Sr Champ \nPaying homage to our elders\, MCC will be hosting our annual Senior and Super Senior Club Championship. Make your regular group and tee time. Prizes will be awarded for Net and Gross divisions. \n 
URL:https://www.maplecrestcountryclub.org/event/sr-super-sr-champ/
LOCATION:Maplecrest Country Club\, 611 Hackett Road\, Goshen\, IN\, 46528\, United States
GEO:41.6029947;-85.8214754
X-APPLE-STRUCTURED-LOCATION;VALUE=URI;X-ADDRESS=Maplecrest Country Club 611 Hackett Road Goshen IN 46528 United States;X-APPLE-RADIUS=500;X-TITLE=611 Hackett Road:geo:-85.8214754,41.6029947
END:VEVENT
END:VCALENDAR